BEGIN:VCALENDAR
VERSION:2.0
PRODID:-//Tukios.com/
BEGIN:VEVENT
UID:c6a7151f-3a88-4492-9353-d7afa26e7f75@www.coleandgarrett.com
DTSTAMP:20260423T191537Z
DTSTART:20260424T200000Z
DTEND:20260424T210000Z
SUMMARY:Burial
DESCRIPTION:
URL:https://www.coleandgarrett.com/obituaries/robert-finch-jr
LOCATION: 660 Thompson Ln  Nashville TN 37204
GEO:36.1149739;-86.7604923
END:VEVENT
END:VCALENDAR