BEGIN:VCALENDAR
VERSION:2.0
PRODID:-//Tukios.com/
BEGIN:VEVENT
UID:e34b03ed-9260-448c-b5f5-27038c0e9876@www.coleandgarrett.com
DTSTAMP:20260423T191338Z
DTSTART:20260424T180000Z
DTEND:20260424T190000Z
SUMMARY:Funeral Service
DESCRIPTION:
URL:https://www.coleandgarrett.com/obituaries/robert-finch-jr
LOCATION: 127 N Main St  Goodlettsville TN 37072
GEO:36.3239803;-86.7126546
END:VEVENT
END:VCALENDAR