BEGIN:VCALENDAR
VERSION:2.0
PRODID:-//Tukios.com/
BEGIN:VEVENT
UID:3dc00fbc-38d0-4fd8-b113-550b890daa1b@www.coleandgarrett.com
DTSTAMP:20260423T190852Z
DTSTART:20260424T160000Z
DTEND:20260424T180000Z
SUMMARY:Visitation
DESCRIPTION:
URL:https://www.coleandgarrett.com/obituaries/robert-finch-jr
LOCATION: 127 N Main St  Goodlettsville TN 37072
GEO:36.3239803;-86.7126546
END:VEVENT
END:VCALENDAR