BEGIN:VCALENDAR
VERSION:2.0
PRODID:-//Tukios.com/
BEGIN:VEVENT
UID:94ca8314-f6f6-47e8-8df1-ed176fef91a5@www.coleandgarrett.com
DTSTAMP:20260422T205554Z
DTSTART:20260424T160000Z
DTEND:20260424T170000Z
SUMMARY:Graveside Service
DESCRIPTION:
URL:https://www.coleandgarrett.com/obituaries/pallie-sue-jones
LOCATION: 1150 Dickerson Rd  Goodlettsville TN 37072
GEO:36.2952636;-86.7267841
END:VEVENT
END:VCALENDAR