BEGIN:VCALENDAR
VERSION:2.0
PRODID:-//Tukios.com/
BEGIN:VEVENT
UID:c04d414e-deec-4435-b6d4-9339f076b706@www.coleandgarrett.com
DTSTAMP:20260422T205611Z
DTSTART:20260423T220000Z
DTEND:20260424T000000Z
SUMMARY:Visitation
DESCRIPTION:
URL:https://www.coleandgarrett.com/obituaries/pallie-sue-jones
LOCATION: 127 N Main St  Goodlettsville TN 37072
GEO:36.3239803;-86.7126546
END:VEVENT
END:VCALENDAR