BEGIN:VCALENDAR
VERSION:2.0
PRODID:-//Tukios.com/
BEGIN:VEVENT
UID:8813353e-d9b7-41de-a07e-2fd02c3d6e8f@www.coleandgarrett.com
DTSTAMP:20260422T184153Z
DTSTART:20260425T200000Z
DTEND:20260425T203000Z
SUMMARY:Burial
DESCRIPTION:
URL:https://www.coleandgarrett.com/obituaries/james-andrew-eddings
LOCATION: 3639 US-31W  White House TN 37188
GEO:36.4815929;-86.647161
END:VEVENT
END:VCALENDAR