BEGIN:VCALENDAR
VERSION:2.0
PRODID:-//Tukios.com/
BEGIN:VEVENT
UID:f264039d-e172-4a8d-a23b-30ce464b5461@www.coleandgarrett.com
DTSTAMP:20260422T184543Z
DTSTART:20260425T190000Z
DTEND:20260425T200000Z
SUMMARY:Funeral Service
DESCRIPTION:
URL:https://www.coleandgarrett.com/obituaries/james-andrew-eddings
LOCATION: 212 Highway 76  White House TN 37188
GEO:36.4694289;-86.6573032
END:VEVENT
END:VCALENDAR