BEGIN:VCALENDAR
VERSION:2.0
PRODID:-//Tukios.com/
BEGIN:VEVENT
UID:1cd2bba6-d1a8-4d9d-beb2-6f09da577920@www.coleandgarrett.com
DTSTAMP:20260422T184531Z
DTSTART:20260425T180000Z
DTEND:20260425T190000Z
SUMMARY:Visitation
DESCRIPTION:
URL:https://www.coleandgarrett.com/obituaries/james-andrew-eddings
LOCATION: 212 Highway 76  White House TN 37188
GEO:36.4694289;-86.6573032
END:VEVENT
END:VCALENDAR