BEGIN:VCALENDAR
VERSION:2.0
PRODID:-//Tukios.com/
BEGIN:VEVENT
UID:e2c232cd-4fdd-459a-9ee6-4cbe30394cb0@www.coleandgarrett.com
DTSTAMP:20260422T184300Z
DTSTART:20260424T210000Z
DTEND:20260425T010000Z
SUMMARY:Visitation
DESCRIPTION:
URL:https://www.coleandgarrett.com/obituaries/james-andrew-eddings
LOCATION: 212 Highway 76  White House TN 37188
GEO:36.4694289;-86.6573032
END:VEVENT
END:VCALENDAR